BEGIN:VCALENDAR
VERSION:2.0
PRODID:-//In Christ Alone - ECPv6.15.20//NONSGML v1.0//EN
CALSCALE:GREGORIAN
METHOD:PUBLISH
X-ORIGINAL-URL:https://ica-ministry.org
X-WR-CALDESC:Events for In Christ Alone
REFRESH-INTERVAL;VALUE=DURATION:PT1H
X-Robots-Tag:noindex
X-PUBLISHED-TTL:PT1H
BEGIN:VTIMEZONE
TZID:America/Los_Angeles
BEGIN:DAYLIGHT
TZOFFSETFROM:-0800
TZOFFSETTO:-0700
TZNAME:PDT
DTSTART:20190310T100000
END:DAYLIGHT
BEGIN:STANDARD
TZOFFSETFROM:-0700
TZOFFSETTO:-0800
TZNAME:PST
DTSTART:20191103T090000
END:STANDARD
BEGIN:DAYLIGHT
TZOFFSETFROM:-0800
TZOFFSETTO:-0700
TZNAME:PDT
DTSTART:20200308T100000
END:DAYLIGHT
BEGIN:STANDARD
TZOFFSETFROM:-0700
TZOFFSETTO:-0800
TZNAME:PST
DTSTART:20201101T090000
END:STANDARD
BEGIN:DAYLIGHT
TZOFFSETFROM:-0800
TZOFFSETTO:-0700
TZNAME:PDT
DTSTART:20210314T100000
END:DAYLIGHT
BEGIN:STANDARD
TZOFFSETFROM:-0700
TZOFFSETTO:-0800
TZNAME:PST
DTSTART:20211107T090000
END:STANDARD
END:VTIMEZONE
BEGIN:VEVENT
DTSTART;TZID=America/Los_Angeles:20201115T130000
DTEND;TZID=America/Los_Angeles:20201115T153000
DTSTAMP:20260423T183411
CREATED:20201030T203035Z
LAST-MODIFIED:20201031T225424Z
UID:1608-1605445200-1605454200@ica-ministry.org
SUMMARY:Sunday worship
DESCRIPTION:Come join us for Sunday worship at White Harvest Evangelical Church – online on Zoom\, or in-person at our newly built Missions Center for safe members*! Service starts at 1:00 pm. \n*Note: Safe members are those who are symptom-free and have not been in contact with anyone with COVID-19 for the past 14 days.
URL:https://ica-ministry.org/event/sunday-worship-3/
LOCATION:White Harvest Missions Center\, 1336 S. Berendo St.\, Los Angeles\, CA\, United States
CATEGORIES:Weekly activities
ATTACH;FMTTYPE=image/png:https://ica-ministry.org/wp-content/uploads/2020/10/Sunday-morning-college-group-worship-service-church-online-in-person.png
ORGANIZER;CN="In Christ Alone":MAILTO:ed@icaministry.org
END:VEVENT
BEGIN:VEVENT
DTSTART;TZID=America/Los_Angeles:20201111T183000
DTEND;TZID=America/Los_Angeles:20201111T200000
DTSTAMP:20260423T183411
CREATED:20201030T201159Z
LAST-MODIFIED:20201030T201159Z
UID:1600-1605119400-1605124800@ica-ministry.org
SUMMARY:Wednesday Night Rally
DESCRIPTION:Come join us for a night of fellowship and worship! We’ll play fun games\, listen to a message together\, and share in small groups!
URL:https://ica-ministry.org/event/wednesday-night-rally-3/
LOCATION:ICA Rally Zoom room
CATEGORIES:Weekly activities
ATTACH;FMTTYPE=image/png:https://ica-ministry.org/wp-content/uploads/2020/10/Wednesday-Night-College-Fellowship-Online-Zoom-Fall-2020.png
ORGANIZER;CN="In Christ Alone":MAILTO:ed@icaministry.org
END:VEVENT
BEGIN:VEVENT
DTSTART;TZID=America/Los_Angeles:20201108T130000
DTEND;TZID=America/Los_Angeles:20201108T153000
DTSTAMP:20260423T183411
CREATED:20201030T202801Z
LAST-MODIFIED:20201031T225234Z
UID:1606-1604840400-1604849400@ica-ministry.org
SUMMARY:Sunday Worship
DESCRIPTION:Come join us for Sunday worship at White Harvest Evangelical Church – online on Zoom\, or in-person at our newly built Missions Center for safe members*! Service starts at 1:00 pm. \n*Note: Safe members are those who are symptom-free and have not been in contact with anyone with COVID-19 for the past 14 days.
URL:https://ica-ministry.org/event/sunday-worship-2/
LOCATION:White Harvest Missions Center\, 1336 S. Berendo St.\, Los Angeles\, CA\, United States
CATEGORIES:Weekly activities
ATTACH;FMTTYPE=image/png:https://ica-ministry.org/wp-content/uploads/2020/10/Sunday-morning-college-group-worship-service-church-online-in-person.png
ORGANIZER;CN="In Christ Alone":MAILTO:ed@icaministry.org
END:VEVENT
BEGIN:VEVENT
DTSTART;TZID=America/Los_Angeles:20201104T183000
DTEND;TZID=America/Los_Angeles:20201104T200000
DTSTAMP:20260423T183411
CREATED:20201030T195419Z
LAST-MODIFIED:20201030T201047Z
UID:1598-1604514600-1604520000@ica-ministry.org
SUMMARY:Wednesday Night Rally
DESCRIPTION:Come join us for a night of fellowship and worship! We’ll play fun games\, listen to a message together\, and share in small groups!
URL:https://ica-ministry.org/event/wednesday-night-rally-2/
LOCATION:ICA Rally Zoom room
CATEGORIES:Weekly activities
ATTACH;FMTTYPE=image/png:https://ica-ministry.org/wp-content/uploads/2020/10/Wednesday-Night-College-Fellowship-Online-Zoom-Fall-2020.png
ORGANIZER;CN="In Christ Alone":MAILTO:ed@icaministry.org
END:VEVENT
BEGIN:VEVENT
DTSTART;TZID=America/Los_Angeles:20201101T130000
DTEND;TZID=America/Los_Angeles:20201101T153000
DTSTAMP:20260423T183411
CREATED:20201030T202311Z
LAST-MODIFIED:20201031T225118Z
UID:1604-1604235600-1604244600@ica-ministry.org
SUMMARY:Sunday Worship
DESCRIPTION:Come join us for Sunday worship at White Harvest Evangelical Church – online on Zoom\, or in-person at our newly built Missions Center for safe members*! Service starts at 1:00 pm. \n*Note: Safe members are those who are symptom-free and have not been in contact with anyone with COVID-19 for the past 14 days.
URL:https://ica-ministry.org/event/sunday-worship/
LOCATION:White Harvest Missions Center\, 1336 S. Berendo St.\, Los Angeles\, CA\, United States
CATEGORIES:Weekly activities
ATTACH;FMTTYPE=image/png:https://ica-ministry.org/wp-content/uploads/2020/10/Sunday-morning-college-group-worship-service-church-online-in-person.png
ORGANIZER;CN="In Christ Alone":MAILTO:ed@icaministry.org
END:VEVENT
BEGIN:VEVENT
DTSTART;TZID=America/Los_Angeles:20201030T183000
DTEND;TZID=America/Los_Angeles:20201030T200000
DTSTAMP:20260423T183411
CREATED:20201030T185712Z
LAST-MODIFIED:20201030T185712Z
UID:1596-1604082600-1604088000@ica-ministry.org
SUMMARY:Praise and Prayer Night
DESCRIPTION:“The LORD is near to all who call on him\, to all who call on him in truth.” – Psalms 145:18 \nJoin us for a night of praise and prayer on Zoom!
URL:https://ica-ministry.org/event/praise-and-prayer-night/
LOCATION:ICA Friday night activity Zoom room
CATEGORIES:Weekly activities
ATTACH;FMTTYPE=image/png:https://ica-ministry.org/wp-content/uploads/2020/10/Friday-night-college-fellowship-praise-worship-prayer-rest-online-Zoom.png
ORGANIZER;CN="In Christ Alone":MAILTO:ed@icaministry.org
END:VEVENT
BEGIN:VEVENT
DTSTART;TZID=America/Los_Angeles:20201028T183000
DTEND;TZID=America/Los_Angeles:20201028T203000
DTSTAMP:20260423T183411
CREATED:20201026T195036Z
LAST-MODIFIED:20201026T195036Z
UID:1579-1603909800-1603917000@ica-ministry.org
SUMMARY:Wednesday Night Rally
DESCRIPTION:
URL:https://ica-ministry.org/event/wednesday-night-rally/
LOCATION:ICA Rally Zoom room
ATTACH;FMTTYPE=image/png:https://ica-ministry.org/wp-content/uploads/2020/10/Wednesday-Night-College-Fellowship-Online-Zoom-Fall-2020.png
ORGANIZER;CN="In Christ Alone":MAILTO:ed@icaministry.org
END:VEVENT
BEGIN:VEVENT
DTSTART;TZID=America/Los_Angeles:20201024T080000
DTEND;TZID=America/Los_Angeles:20201024T170000
DTSTAMP:20260423T183411
CREATED:20200922T190516Z
LAST-MODIFIED:20200922T191540Z
UID:1498-1603526400-1603558800@ica-ministry.org
SUMMARY:Abiding in Christ - ICA Fall One-Day Conference
DESCRIPTION:Join us for a full-day of fellowship and refreshment! Sermons\, workshops\, and worship – all geared towards a life deeply abiding in Christ and enjoying His grace! This year\, our conference will be held in-person for safe members as well as online on Zoom! Registration will open soon!
URL:https://ica-ministry.org/event/abiding-in-christ-ica-fall-one-day-conference/
LOCATION:White Harvest Missions Center\, 1336 S. Berendo St.\, Los Angeles\, CA\, United States
ATTACH;FMTTYPE=image/png:https://ica-ministry.org/wp-content/uploads/2020/09/Fall-Conference-2020-Abiding-in-Christ-campus-fellowship-student-development.png
ORGANIZER;CN="In Christ Alone":MAILTO:ed@icaministry.org
END:VEVENT
BEGIN:VEVENT
DTSTART;TZID=America/Los_Angeles:20201007T183000
DTEND;TZID=America/Los_Angeles:20201007T200000
DTSTAMP:20260423T183411
CREATED:20200929T193203Z
LAST-MODIFIED:20200929T194515Z
UID:1523-1602095400-1602100800@ica-ministry.org
SUMMARY:Wednesday night ICA rally fellowship
DESCRIPTION:Come join us for fellowship and fun\, worship in song\, fresh testimony of God’s work in our lives\, and great teaching! \nThis week’s message is on Life’s Greatest Adventure! Come hear Pastor Min Ahn\, the founder and director of the In Christ Alone ministry\, teach us all about the abundant life that God promises all of us.
URL:https://ica-ministry.org/event/wednesday-night-ica-rally-fellowship/
LOCATION:ICA Rally Zoom room
ATTACH;FMTTYPE=image/png:https://ica-ministry.org/wp-content/uploads/2020/09/lifes-greatest-adventure-worship-God-make-Christs-love-known-Zoom-weekly-college-fellowship-meeting-sermon-topic.png
ORGANIZER;CN="In Christ Alone":MAILTO:ed@icaministry.org
END:VEVENT
BEGIN:VEVENT
DTSTART;TZID=America/Los_Angeles:20201006T173000
DTEND;TZID=America/Los_Angeles:20201006T183000
DTSTAMP:20260423T183411
CREATED:20200929T194057Z
LAST-MODIFIED:20201005T221658Z
UID:1528-1602005400-1602009000@ica-ministry.org
SUMMARY:New Student Bible Study Kickoff
DESCRIPTION:New student? Join us for our exciting first Bible study of the year! Make new friends – and meet with God! Led by our campus ministry leaders\, Ed\, Jeremy\, and Yvonne. The new schoolyear is on – and we will meet it with God’s Word!
URL:https://ica-ministry.org/event/new-student-bible-study-kickoff/
LOCATION:ICA Bible study Zoom room
ATTACH;FMTTYPE=image/png:https://ica-ministry.org/wp-content/uploads/2020/09/New-student-Bible-study-kickoff-first-meeting-university-fellowship-Zoom-online.png
ORGANIZER;CN="In Christ Alone":MAILTO:ed@icaministry.org
END:VEVENT
BEGIN:VEVENT
DTSTART;TZID=America/Los_Angeles:20201006T100000
DTEND;TZID=America/Los_Angeles:20201006T103000
DTSTAMP:20260423T183411
CREATED:20201005T182135Z
LAST-MODIFIED:20201005T182416Z
UID:1535-1601978400-1601980200@ica-ministry.org
SUMMARY:Prayer for the new schoolyear
DESCRIPTION:“If my people\, who are called by my name\, will humble themselves and pray and seek my face and turn from their wicked ways\, then I will hear from heaven\, and I will forgive their sin and will heal their land.” \n2 Chronicles 7:14 \nJoin us as we dedicate the new schoolyear to God in prayer over Zoom! Meet with God\, befriend fellow Christians\, and start your fall 2020 with Christ!
URL:https://ica-ministry.org/event/prayer-for-the-new-schoolyear/
LOCATION:CA
ATTACH;FMTTYPE=image/png:https://ica-ministry.org/wp-content/uploads/2020/10/prayer.png
END:VEVENT
BEGIN:VEVENT
DTSTART;TZID=America/Los_Angeles:20201002T183000
DTEND;TZID=America/Los_Angeles:20201002T200000
DTSTAMP:20260423T183411
CREATED:20200929T193545Z
LAST-MODIFIED:20200929T195539Z
UID:1525-1601663400-1601668800@ica-ministry.org
SUMMARY:Virtual Praise and Prayer Night
DESCRIPTION:Come and be refreshed as we sing praise to God and enjoy time with Him in prayer! Eric Wang and Ed Oyama will lead us into worship tonight. Games and fellowship to follow.
URL:https://ica-ministry.org/event/virtual-praise-and-prayer-night/
LOCATION:ICA Friday night activity Zoom room
ATTACH;FMTTYPE=image/png:https://ica-ministry.org/wp-content/uploads/2020/09/Virtual-Praise-and-Prayer-Zoom-fellowship-worship-music-singing-friday-night.png
END:VEVENT
BEGIN:VEVENT
DTSTART;TZID=America/Los_Angeles:20200930T183000
DTEND;TZID=America/Los_Angeles:20200930T200000
DTSTAMP:20260423T183411
CREATED:20200929T192514Z
LAST-MODIFIED:20200929T192841Z
UID:1514-1601490600-1601496000@ica-ministry.org
SUMMARY:Wednesday night rally fellowship
DESCRIPTION:Come join us for fellowship and fun\, worship in song\, fresh testimony of God’s work in our lives\, and great teaching! \nThis week’s message is on Finding Contentment in Every Situation – which is what God wants for us\, but so often eludes us. Jeremy\, director of the In Christ Alone ministries at USC and UCI\, will teach.
URL:https://ica-ministry.org/event/wednesday-night-rally-fellowship/
LOCATION:ICA Rally Zoom room
ATTACH;FMTTYPE=image/png:https://ica-ministry.org/wp-content/uploads/2020/09/finding-contentment-in-all-circumstances-weekly-college-fellowship-meeting-sermon-topic.png
ORGANIZER;CN="In Christ Alone":MAILTO:ed@icaministry.org
END:VEVENT
END:VCALENDAR