BEGIN:VCALENDAR
VERSION:2.0
PRODID:-//In Christ Alone - ECPv6.15.20//NONSGML v1.0//EN
CALSCALE:GREGORIAN
METHOD:PUBLISH
X-WR-CALNAME:In Christ Alone
X-ORIGINAL-URL:https://ica-ministry.org
X-WR-CALDESC:Events for In Christ Alone
REFRESH-INTERVAL;VALUE=DURATION:PT1H
X-Robots-Tag:noindex
X-PUBLISHED-TTL:PT1H
BEGIN:VTIMEZONE
TZID:America/Los_Angeles
BEGIN:DAYLIGHT
TZOFFSETFROM:-0800
TZOFFSETTO:-0700
TZNAME:PDT
DTSTART:20190310T100000
END:DAYLIGHT
BEGIN:STANDARD
TZOFFSETFROM:-0700
TZOFFSETTO:-0800
TZNAME:PST
DTSTART:20191103T090000
END:STANDARD
BEGIN:DAYLIGHT
TZOFFSETFROM:-0800
TZOFFSETTO:-0700
TZNAME:PDT
DTSTART:20200308T100000
END:DAYLIGHT
BEGIN:STANDARD
TZOFFSETFROM:-0700
TZOFFSETTO:-0800
TZNAME:PST
DTSTART:20201101T090000
END:STANDARD
BEGIN:DAYLIGHT
TZOFFSETFROM:-0800
TZOFFSETTO:-0700
TZNAME:PDT
DTSTART:20210314T100000
END:DAYLIGHT
BEGIN:STANDARD
TZOFFSETFROM:-0700
TZOFFSETTO:-0800
TZNAME:PST
DTSTART:20211107T090000
END:STANDARD
BEGIN:DAYLIGHT
TZOFFSETFROM:-0800
TZOFFSETTO:-0700
TZNAME:PDT
DTSTART:20220313T100000
END:DAYLIGHT
BEGIN:STANDARD
TZOFFSETFROM:-0700
TZOFFSETTO:-0800
TZNAME:PST
DTSTART:20221106T090000
END:STANDARD
BEGIN:DAYLIGHT
TZOFFSETFROM:-0800
TZOFFSETTO:-0700
TZNAME:PDT
DTSTART:20230312T100000
END:DAYLIGHT
BEGIN:STANDARD
TZOFFSETFROM:-0700
TZOFFSETTO:-0800
TZNAME:PST
DTSTART:20231105T090000
END:STANDARD
BEGIN:DAYLIGHT
TZOFFSETFROM:-0800
TZOFFSETTO:-0700
TZNAME:PDT
DTSTART:20240310T100000
END:DAYLIGHT
BEGIN:STANDARD
TZOFFSETFROM:-0700
TZOFFSETTO:-0800
TZNAME:PST
DTSTART:20241103T090000
END:STANDARD
END:VTIMEZONE
BEGIN:VEVENT
DTSTART;TZID=America/Los_Angeles:20231207T183000
DTEND;TZID=America/Los_Angeles:20231207T203000
DTSTAMP:20260423T153315
CREATED:20231121T004549Z
LAST-MODIFIED:20231121T004549Z
UID:1933-1701973800-1701981000@ica-ministry.org
SUMMARY:USC Bible Study
DESCRIPTION:Join us at DMC 102 at USC for Bible Study! Starts at 6:30pm.
URL:https://ica-ministry.org/event/usc-bible-study-2/
LOCATION:DMC 102 at USC\, 3518 Trousdale Pkwy\, Los Angeles\, CA\, 90089\, United States
CATEGORIES:Weekly activities
ATTACH;FMTTYPE=image/png:https://ica-ministry.org/wp-content/uploads/2023/11/Cover-8.png
ORGANIZER;CN="In Christ Alone":MAILTO:ed@icaministry.org
END:VEVENT
BEGIN:VEVENT
DTSTART;TZID=America/Los_Angeles:20231207T083000
DTEND;TZID=America/Los_Angeles:20231207T093000
DTSTAMP:20260423T153315
CREATED:20231121T011325Z
LAST-MODIFIED:20231121T011325Z
UID:1960-1701937800-1701941400@ica-ministry.org
SUMMARY:Morning Quiet Time
DESCRIPTION:Join us for Morning Quiet Time at the USC Village at
URL:https://ica-ministry.org/event/morning-quiet-time-7/
LOCATION:USC Village\, 3096 McClintock Ave\, Los Angeles\, CA\, 90007\, United States
CATEGORIES:Weekly activities
ATTACH;FMTTYPE=image/png:https://ica-ministry.org/wp-content/uploads/2023/11/Cover-7.png
ORGANIZER;CN="In Christ Alone":MAILTO:ed@icaministry.org
END:VEVENT
BEGIN:VEVENT
DTSTART;TZID=America/Los_Angeles:20231206T183000
DTEND;TZID=America/Los_Angeles:20231206T203000
DTSTAMP:20260423T153315
CREATED:20231121T005355Z
LAST-MODIFIED:20231121T005355Z
UID:1941-1701887400-1701894600@ica-ministry.org
SUMMARY:UCLA Bible Study
DESCRIPTION:Join us for UCLA Bible Study at MS 3915 at UCLA. Starts at 6:45pm.
URL:https://ica-ministry.org/event/ucla-bible-study-5/
LOCATION:MS 3915 at UCLA\, 520 Portola Plaza\, Los Angeles\, CA\, 90095\, United States
CATEGORIES:Weekly activities
ATTACH;FMTTYPE=image/png:https://ica-ministry.org/wp-content/uploads/2023/11/Cover-8.png
ORGANIZER;CN="In Christ Alone":MAILTO:ed@icaministry.org
END:VEVENT
BEGIN:VEVENT
DTSTART;TZID=America/Los_Angeles:20231206T083000
DTEND;TZID=America/Los_Angeles:20231206T093000
DTSTAMP:20260423T153315
CREATED:20231121T011356Z
LAST-MODIFIED:20231121T011356Z
UID:1959-1701851400-1701855000@ica-ministry.org
SUMMARY:Morning Quiet Time
DESCRIPTION:Join us for Morning Quiet Time at the USC Village at
URL:https://ica-ministry.org/event/morning-quiet-time-8/
LOCATION:USC Village\, 3096 McClintock Ave\, Los Angeles\, CA\, 90007\, United States
CATEGORIES:Weekly activities
ATTACH;FMTTYPE=image/png:https://ica-ministry.org/wp-content/uploads/2023/11/Cover-7.png
ORGANIZER;CN="In Christ Alone":MAILTO:ed@icaministry.org
END:VEVENT
BEGIN:VEVENT
DTSTART;TZID=America/Los_Angeles:20231205T083000
DTEND;TZID=America/Los_Angeles:20231205T093000
DTSTAMP:20260423T153315
CREATED:20231121T011426Z
LAST-MODIFIED:20231121T011426Z
UID:1958-1701765000-1701768600@ica-ministry.org
SUMMARY:Morning Quiet Time
DESCRIPTION:Join us for Morning Quiet Time at the USC Village at
URL:https://ica-ministry.org/event/morning-quiet-time-9/
LOCATION:USC Village\, 3096 McClintock Ave\, Los Angeles\, CA\, 90007\, United States
CATEGORIES:Weekly activities
ATTACH;FMTTYPE=image/png:https://ica-ministry.org/wp-content/uploads/2023/11/Cover-7.png
ORGANIZER;CN="In Christ Alone":MAILTO:ed@icaministry.org
END:VEVENT
BEGIN:VEVENT
DTSTART;TZID=America/Los_Angeles:20231204T083000
DTEND;TZID=America/Los_Angeles:20231204T093000
DTSTAMP:20260423T153315
CREATED:20231121T011517Z
LAST-MODIFIED:20231121T011517Z
UID:1957-1701678600-1701682200@ica-ministry.org
SUMMARY:Morning Quiet Time
DESCRIPTION:Join us for Morning Quiet Time at the USC Village at
URL:https://ica-ministry.org/event/morning-quiet-time-10/
LOCATION:USC Village\, 3096 McClintock Ave\, Los Angeles\, CA\, 90007\, United States
CATEGORIES:Weekly activities
ATTACH;FMTTYPE=image/png:https://ica-ministry.org/wp-content/uploads/2023/11/Cover-7.png
ORGANIZER;CN="In Christ Alone":MAILTO:ed@icaministry.org
END:VEVENT
BEGIN:VEVENT
DTSTART;TZID=America/Los_Angeles:20231203T094500
DTEND;TZID=America/Los_Angeles:20231203T120000
DTSTAMP:20260423T153315
CREATED:20231121T002234Z
LAST-MODIFIED:20231121T002759Z
UID:1915-1701596700-1701604800@ica-ministry.org
SUMMARY:Sunday Worship at WHEC
DESCRIPTION:Join us at WHEC for Sunday Service. Starts at 9:45am.
URL:https://ica-ministry.org/event/sunday-worship-at-whec-2/
LOCATION:White Harvest Missions Center\, 1336 S. Berendo St.\, Los Angeles\, CA\, United States
CATEGORIES:Weekly activities
ATTACH;FMTTYPE=image/png:https://ica-ministry.org/wp-content/uploads/2023/11/Cover-4.png
END:VEVENT
BEGIN:VEVENT
DTSTART;TZID=America/Los_Angeles:20231201T184500
DTEND;TZID=America/Los_Angeles:20231201T204500
DTSTAMP:20260423T153315
CREATED:20231120T180213Z
LAST-MODIFIED:20231120T180954Z
UID:1885-1701456300-1701463500@ica-ministry.org
SUMMARY:Friday Praise Night
DESCRIPTION:Join us at the White Harvest Missions Center for Praise and Prayer at 6:45pm!
URL:https://ica-ministry.org/event/friday-praise-night/
LOCATION:White Harvest Missions Center\, 1336 S. Berendo St.\, Los Angeles\, CA\, United States
CATEGORIES:Weekly activities
ATTACH;FMTTYPE=image/png:https://ica-ministry.org/wp-content/uploads/2023/11/Cover-3.png
ORGANIZER;CN="In Christ Alone":MAILTO:ed@icaministry.org
END:VEVENT
BEGIN:VEVENT
DTSTART;TZID=America/Los_Angeles:20231201T083000
DTEND;TZID=America/Los_Angeles:20231201T093000
DTSTAMP:20260423T153315
CREATED:20231121T010508Z
LAST-MODIFIED:20231121T010508Z
UID:1952-1701419400-1701423000@ica-ministry.org
SUMMARY:Morning Quiet Time
DESCRIPTION:Join us for Morning Quiet Time at the USC Village at
URL:https://ica-ministry.org/event/morning-quiet-time-5/
LOCATION:USC Village\, 3096 McClintock Ave\, Los Angeles\, CA\, 90007\, United States
CATEGORIES:Weekly activities
ATTACH;FMTTYPE=image/png:https://ica-ministry.org/wp-content/uploads/2023/11/Cover-7.png
ORGANIZER;CN="In Christ Alone":MAILTO:ed@icaministry.org
END:VEVENT
BEGIN:VEVENT
DTSTART;TZID=America/Los_Angeles:20231130T183000
DTEND;TZID=America/Los_Angeles:20231130T203000
DTSTAMP:20260423T153315
CREATED:20231120T180753Z
LAST-MODIFIED:20231120T181914Z
UID:1896-1701369000-1701376200@ica-ministry.org
SUMMARY:USC Bible Study
DESCRIPTION:Join us at DMC 102 at USC for Bible Study! Starts at 6:30pm.
URL:https://ica-ministry.org/event/usc-bible-study/
LOCATION:DMC 102 at USC\, 3518 Trousdale Pkwy\, Los Angeles\, CA\, 90089\, United States
CATEGORIES:Weekly activities
ATTACH;FMTTYPE=image/png:https://ica-ministry.org/wp-content/uploads/2023/11/Cover-8.png
ORGANIZER;CN="In Christ Alone":MAILTO:ed@icaministry.org
END:VEVENT
BEGIN:VEVENT
DTSTART;TZID=America/Los_Angeles:20231130T083000
DTEND;TZID=America/Los_Angeles:20231130T093000
DTSTAMP:20260423T153315
CREATED:20231121T010425Z
LAST-MODIFIED:20231121T010425Z
UID:1951-1701333000-1701336600@ica-ministry.org
SUMMARY:Morning Quiet Time
DESCRIPTION:Join us for Morning Quiet Time at the USC Village at
URL:https://ica-ministry.org/event/morning-quiet-time-4/
LOCATION:USC Village\, 3096 McClintock Ave\, Los Angeles\, CA\, 90007\, United States
CATEGORIES:Weekly activities
ATTACH;FMTTYPE=image/png:https://ica-ministry.org/wp-content/uploads/2023/11/Cover-7.png
ORGANIZER;CN="In Christ Alone":MAILTO:ed@icaministry.org
END:VEVENT
BEGIN:VEVENT
DTSTART;TZID=America/Los_Angeles:20231129T183000
DTEND;TZID=America/Los_Angeles:20231129T203000
DTSTAMP:20260423T153315
CREATED:20231120T181717Z
LAST-MODIFIED:20231120T181756Z
UID:1900-1701282600-1701289800@ica-ministry.org
SUMMARY:UCLA Bible Study
DESCRIPTION:Join us for UCLA Bible Study at MS 3915 at UCLA. Starts at 6:45pm.
URL:https://ica-ministry.org/event/ucla-bible-study/
LOCATION:MS 3915 at UCLA\, 520 Portola Plaza\, Los Angeles\, CA\, 90095\, United States
CATEGORIES:Weekly activities
ATTACH;FMTTYPE=image/png:https://ica-ministry.org/wp-content/uploads/2023/11/Cover-8.png
ORGANIZER;CN="In Christ Alone":MAILTO:ed@icaministry.org
END:VEVENT
BEGIN:VEVENT
DTSTART;TZID=America/Los_Angeles:20231129T083000
DTEND;TZID=America/Los_Angeles:20231129T093000
DTSTAMP:20260423T153315
CREATED:20231121T010405Z
LAST-MODIFIED:20231121T010405Z
UID:1950-1701246600-1701250200@ica-ministry.org
SUMMARY:Morning Quiet Time
DESCRIPTION:Join us for Morning Quiet Time at the USC Village at
URL:https://ica-ministry.org/event/morning-quiet-time-3/
LOCATION:USC Village\, 3096 McClintock Ave\, Los Angeles\, CA\, 90007\, United States
CATEGORIES:Weekly activities
ATTACH;FMTTYPE=image/png:https://ica-ministry.org/wp-content/uploads/2023/11/Cover-7.png
ORGANIZER;CN="In Christ Alone":MAILTO:ed@icaministry.org
END:VEVENT
BEGIN:VEVENT
DTSTART;TZID=America/Los_Angeles:20231128T083000
DTEND;TZID=America/Los_Angeles:20231128T093000
DTSTAMP:20260423T153315
CREATED:20231120T183020Z
LAST-MODIFIED:20231121T010525Z
UID:1911-1701160200-1701163800@ica-ministry.org
SUMMARY:Morning Quiet Time
DESCRIPTION:Join us for Morning Quiet Time at the USC Village at
URL:https://ica-ministry.org/event/morning-quiet-time/
LOCATION:USC Village\, 3096 McClintock Ave\, Los Angeles\, CA\, 90007\, United States
CATEGORIES:Weekly activities
ATTACH;FMTTYPE=image/png:https://ica-ministry.org/wp-content/uploads/2023/11/Cover-7.png
ORGANIZER;CN="In Christ Alone":MAILTO:ed@icaministry.org
END:VEVENT
BEGIN:VEVENT
DTSTART;TZID=America/Los_Angeles:20231127T083000
DTEND;TZID=America/Los_Angeles:20231127T093000
DTSTAMP:20260423T153315
CREATED:20231121T010331Z
LAST-MODIFIED:20231121T010331Z
UID:1949-1701073800-1701077400@ica-ministry.org
SUMMARY:Morning Quiet Time
DESCRIPTION:Join us for Morning Quiet Time at the USC Village at
URL:https://ica-ministry.org/event/morning-quiet-time-2/
LOCATION:USC Village\, 3096 McClintock Ave\, Los Angeles\, CA\, 90007\, United States
CATEGORIES:Weekly activities
ATTACH;FMTTYPE=image/png:https://ica-ministry.org/wp-content/uploads/2023/11/Cover-7.png
ORGANIZER;CN="In Christ Alone":MAILTO:ed@icaministry.org
END:VEVENT
BEGIN:VEVENT
DTSTART;TZID=America/Los_Angeles:20231126T094500
DTEND;TZID=America/Los_Angeles:20231126T120000
DTSTAMP:20260423T153315
CREATED:20231120T182232Z
LAST-MODIFIED:20231121T001844Z
UID:1905-1700991900-1701000000@ica-ministry.org
SUMMARY:Sunday Worship at WHEC
DESCRIPTION:Join us at WHEC for Sunday Service. Starts at 9:45am.
URL:https://ica-ministry.org/event/sunday-worship-at-whec/
LOCATION:White Harvest Missions Center\, 1336 S. Berendo St.\, Los Angeles\, CA\, United States
CATEGORIES:Weekly activities
ATTACH;FMTTYPE=image/png:https://ica-ministry.org/wp-content/uploads/2023/11/Cover-4.png
END:VEVENT
BEGIN:VEVENT
DTSTART;TZID=America/Los_Angeles:20231123T150000
DTEND;TZID=America/Los_Angeles:20231123T200000
DTSTAMP:20260423T153315
CREATED:20231120T182647Z
LAST-MODIFIED:20231120T182647Z
UID:1908-1700751600-1700769600@ica-ministry.org
SUMMARY:Thanksgiving Game and Dinner
DESCRIPTION:Join us for our Thanksgiving Game and Dinner at WHEC. Starts at 3:00pm.
URL:https://ica-ministry.org/event/thanksgiving-game-and-dinner/
LOCATION:White Harvest Missions Center\, 1336 S. Berendo St.\, Los Angeles\, CA\, United States
CATEGORIES:Weekly activities
ATTACH;FMTTYPE=image/png:https://ica-ministry.org/wp-content/uploads/2023/11/Cover-9.png
END:VEVENT
BEGIN:VEVENT
DTSTART;TZID=America/Los_Angeles:20230817T183000
DTEND;TZID=America/Los_Angeles:20230817T203000
DTSTAMP:20260423T153315
CREATED:20211227T235004Z
LAST-MODIFIED:20230823T170632Z
UID:1849-1692297000-1692304200@ica-ministry.org
SUMMARY:Wednesday Rally
DESCRIPTION:Come join us for Wednesday rally at UCLA! Fellowship\, worship\, and fun!
URL:https://ica-ministry.org/event/wednesday-rally/
LOCATION:220 Boelter Hall UCLA\, 580 Portola Plaza\, Los Angeles\, CA\, 90095\, United States
CATEGORIES:Weekly activities
ATTACH;FMTTYPE=image/png:https://ica-ministry.org/wp-content/uploads/2021/12/Wednesday-Bible-Study-Rally-event-graphic-2022.png
ORGANIZER;CN="In Christ Alone":MAILTO:ed@icaministry.org
END:VEVENT
BEGIN:VEVENT
DTSTART;VALUE=DATE:20220115
DTEND;VALUE=DATE:20220119
DTSTAMP:20260423T153315
CREATED:20211227T235642Z
LAST-MODIFIED:20211227T235721Z
UID:1858-1642204800-1642550399@ica-ministry.org
SUMMARY:Winter Conference 2022
DESCRIPTION:Come kick off the year with an extended weekend of fellowship and training to make the most of 2022! This year’s conference will be at the White Harvest Mission Training Center. Contact Brent Han for details and registration.
URL:https://ica-ministry.org/event/winter-conference-2022/
LOCATION:White Harvest Missions Center\, 1336 S. Berendo St.\, Los Angeles\, CA\, United States
ATTACH;FMTTYPE=image/png:https://ica-ministry.org/wp-content/uploads/2021/12/Winter-Conference-2022-event-graphic.png
END:VEVENT
BEGIN:VEVENT
DTSTART;TZID=America/Los_Angeles:20220103T094500
DTEND;TZID=America/Los_Angeles:20220103T120000
DTSTAMP:20260423T153315
CREATED:20211227T233540Z
LAST-MODIFIED:20211227T235055Z
UID:1845-1641203100-1641211200@ica-ministry.org
SUMMARY:Sunday Service
DESCRIPTION:Come join us for Sunday worship at White Harvest Evangelical Church – online on Zoom\, or in-person at our newly built Missions Center for safe members*! Service starts at 1:00 pm. \n*Note: Safe members are those who are symptom-free and have not been in contact with anyone with COVID-19 for the past 14 days.
URL:https://ica-ministry.org/event/1845/
LOCATION:White Harvest Missions Center\, 1336 S. Berendo St.\, Los Angeles\, CA\, United States
ATTACH;FMTTYPE=image/png:https://ica-ministry.org/wp-content/uploads/2020/10/Sunday-morning-college-group-worship-service-church-online-in-person.png
ORGANIZER;CN="In Christ Alone":MAILTO:ed@icaministry.org
END:VEVENT
BEGIN:VEVENT
DTSTART;TZID=America/Los_Angeles:20211231T190000
DTEND;TZID=America/Los_Angeles:20220101T000000
DTSTAMP:20260423T153315
CREATED:20211227T235325Z
LAST-MODIFIED:20211227T235344Z
UID:1855-1640977200-1640995200@ica-ministry.org
SUMMARY:New Year's Eve Party
DESCRIPTION:Come ring in the new year with us! Join us at the White Harvest Missions Training Center from 7pm.
URL:https://ica-ministry.org/event/new-years-eve-party/
LOCATION:White Harvest Missions Center\, 1336 S. Berendo St.\, Los Angeles\, CA\, United States
ATTACH;FMTTYPE=image/png:https://ica-ministry.org/wp-content/uploads/2021/12/New-Years-Eve-party-event-graphic.png
END:VEVENT
BEGIN:VEVENT
DTSTART;TZID=America/Los_Angeles:20201129T130000
DTEND;TZID=America/Los_Angeles:20201129T153000
DTSTAMP:20260423T153315
CREATED:20201030T203457Z
LAST-MODIFIED:20211227T234809Z
UID:1612-1606654800-1606663800@ica-ministry.org
SUMMARY:Sunday worship
DESCRIPTION:Come join us for Sunday worship at White Harvest Evangelical Church – online on Zoom\, or in-person at our newly built Missions Center for safe members*! Service starts at9:45 am. \n*Note: Safe members are those who are symptom-free and have not been in contact with anyone with COVID-19 for the past 14 days.
URL:https://ica-ministry.org/event/sunday-worship-5/
LOCATION:White Harvest Missions Center\, 1336 S. Berendo St.\, Los Angeles\, CA\, United States
CATEGORIES:Weekly activities
ATTACH;FMTTYPE=image/png:https://ica-ministry.org/wp-content/uploads/2020/10/Sunday-morning-college-group-worship-service-church-online-in-person.png
ORGANIZER;CN="In Christ Alone":MAILTO:ed@icaministry.org
END:VEVENT
BEGIN:VEVENT
DTSTART;TZID=America/Los_Angeles:20201122T130000
DTEND;TZID=America/Los_Angeles:20201122T153000
DTSTAMP:20260423T153315
CREATED:20201030T203151Z
LAST-MODIFIED:20201031T223954Z
UID:1610-1606050000-1606059000@ica-ministry.org
SUMMARY:Sunday worship
DESCRIPTION:Come join us for Sunday worship at White Harvest Evangelical Church – online on Zoom\, or in-person at our newly built Missions Center for safe members*! Service starts at 1:00 pm. \n*Note: Safe members are those who are symptom-free and have not been in contact with anyone with COVID-19 for the past 14 days.
URL:https://ica-ministry.org/event/sunday-worship-4/
LOCATION:White Harvest Missions Center\, 1336 S. Berendo St.\, Los Angeles\, CA\, United States
CATEGORIES:Weekly activities
ATTACH;FMTTYPE=image/png:https://ica-ministry.org/wp-content/uploads/2020/10/Sunday-morning-college-group-worship-service-church-online-in-person.png
ORGANIZER;CN="In Christ Alone":MAILTO:ed@icaministry.org
END:VEVENT
BEGIN:VEVENT
DTSTART;TZID=America/Los_Angeles:20201118T183000
DTEND;TZID=America/Los_Angeles:20201118T200000
DTSTAMP:20260423T153315
CREATED:20201030T201810Z
LAST-MODIFIED:20201030T201810Z
UID:1602-1605724200-1605729600@ica-ministry.org
SUMMARY:Wednesday night rally
DESCRIPTION:Come join us for a night of fellowship and worship! We’ll play fun games\, listen to a message together\, and share in small groups!
URL:https://ica-ministry.org/event/wednesday-night-rally-4/
LOCATION:ICA Rally Zoom room
CATEGORIES:Weekly activities
ATTACH;FMTTYPE=image/png:https://ica-ministry.org/wp-content/uploads/2020/10/Wednesday-Night-College-Fellowship-Online-Zoom-Fall-2020.png
ORGANIZER;CN="In Christ Alone":MAILTO:ed@icaministry.org
END:VEVENT
BEGIN:VEVENT
DTSTART;TZID=America/Los_Angeles:20201115T130000
DTEND;TZID=America/Los_Angeles:20201115T153000
DTSTAMP:20260423T153315
CREATED:20201030T203035Z
LAST-MODIFIED:20201031T225424Z
UID:1608-1605445200-1605454200@ica-ministry.org
SUMMARY:Sunday worship
DESCRIPTION:Come join us for Sunday worship at White Harvest Evangelical Church – online on Zoom\, or in-person at our newly built Missions Center for safe members*! Service starts at 1:00 pm. \n*Note: Safe members are those who are symptom-free and have not been in contact with anyone with COVID-19 for the past 14 days.
URL:https://ica-ministry.org/event/sunday-worship-3/
LOCATION:White Harvest Missions Center\, 1336 S. Berendo St.\, Los Angeles\, CA\, United States
CATEGORIES:Weekly activities
ATTACH;FMTTYPE=image/png:https://ica-ministry.org/wp-content/uploads/2020/10/Sunday-morning-college-group-worship-service-church-online-in-person.png
ORGANIZER;CN="In Christ Alone":MAILTO:ed@icaministry.org
END:VEVENT
BEGIN:VEVENT
DTSTART;TZID=America/Los_Angeles:20201111T183000
DTEND;TZID=America/Los_Angeles:20201111T200000
DTSTAMP:20260423T153315
CREATED:20201030T201159Z
LAST-MODIFIED:20201030T201159Z
UID:1600-1605119400-1605124800@ica-ministry.org
SUMMARY:Wednesday Night Rally
DESCRIPTION:Come join us for a night of fellowship and worship! We’ll play fun games\, listen to a message together\, and share in small groups!
URL:https://ica-ministry.org/event/wednesday-night-rally-3/
LOCATION:ICA Rally Zoom room
CATEGORIES:Weekly activities
ATTACH;FMTTYPE=image/png:https://ica-ministry.org/wp-content/uploads/2020/10/Wednesday-Night-College-Fellowship-Online-Zoom-Fall-2020.png
ORGANIZER;CN="In Christ Alone":MAILTO:ed@icaministry.org
END:VEVENT
BEGIN:VEVENT
DTSTART;TZID=America/Los_Angeles:20201108T130000
DTEND;TZID=America/Los_Angeles:20201108T153000
DTSTAMP:20260423T153315
CREATED:20201030T202801Z
LAST-MODIFIED:20201031T225234Z
UID:1606-1604840400-1604849400@ica-ministry.org
SUMMARY:Sunday Worship
DESCRIPTION:Come join us for Sunday worship at White Harvest Evangelical Church – online on Zoom\, or in-person at our newly built Missions Center for safe members*! Service starts at 1:00 pm. \n*Note: Safe members are those who are symptom-free and have not been in contact with anyone with COVID-19 for the past 14 days.
URL:https://ica-ministry.org/event/sunday-worship-2/
LOCATION:White Harvest Missions Center\, 1336 S. Berendo St.\, Los Angeles\, CA\, United States
CATEGORIES:Weekly activities
ATTACH;FMTTYPE=image/png:https://ica-ministry.org/wp-content/uploads/2020/10/Sunday-morning-college-group-worship-service-church-online-in-person.png
ORGANIZER;CN="In Christ Alone":MAILTO:ed@icaministry.org
END:VEVENT
BEGIN:VEVENT
DTSTART;TZID=America/Los_Angeles:20201104T183000
DTEND;TZID=America/Los_Angeles:20201104T200000
DTSTAMP:20260423T153315
CREATED:20201030T195419Z
LAST-MODIFIED:20201030T201047Z
UID:1598-1604514600-1604520000@ica-ministry.org
SUMMARY:Wednesday Night Rally
DESCRIPTION:Come join us for a night of fellowship and worship! We’ll play fun games\, listen to a message together\, and share in small groups!
URL:https://ica-ministry.org/event/wednesday-night-rally-2/
LOCATION:ICA Rally Zoom room
CATEGORIES:Weekly activities
ATTACH;FMTTYPE=image/png:https://ica-ministry.org/wp-content/uploads/2020/10/Wednesday-Night-College-Fellowship-Online-Zoom-Fall-2020.png
ORGANIZER;CN="In Christ Alone":MAILTO:ed@icaministry.org
END:VEVENT
BEGIN:VEVENT
DTSTART;TZID=America/Los_Angeles:20201101T130000
DTEND;TZID=America/Los_Angeles:20201101T153000
DTSTAMP:20260423T153315
CREATED:20201030T202311Z
LAST-MODIFIED:20201031T225118Z
UID:1604-1604235600-1604244600@ica-ministry.org
SUMMARY:Sunday Worship
DESCRIPTION:Come join us for Sunday worship at White Harvest Evangelical Church – online on Zoom\, or in-person at our newly built Missions Center for safe members*! Service starts at 1:00 pm. \n*Note: Safe members are those who are symptom-free and have not been in contact with anyone with COVID-19 for the past 14 days.
URL:https://ica-ministry.org/event/sunday-worship/
LOCATION:White Harvest Missions Center\, 1336 S. Berendo St.\, Los Angeles\, CA\, United States
CATEGORIES:Weekly activities
ATTACH;FMTTYPE=image/png:https://ica-ministry.org/wp-content/uploads/2020/10/Sunday-morning-college-group-worship-service-church-online-in-person.png
ORGANIZER;CN="In Christ Alone":MAILTO:ed@icaministry.org
END:VEVENT
BEGIN:VEVENT
DTSTART;TZID=America/Los_Angeles:20201030T183000
DTEND;TZID=America/Los_Angeles:20201030T200000
DTSTAMP:20260423T153315
CREATED:20201030T185712Z
LAST-MODIFIED:20201030T185712Z
UID:1596-1604082600-1604088000@ica-ministry.org
SUMMARY:Praise and Prayer Night
DESCRIPTION:“The LORD is near to all who call on him\, to all who call on him in truth.” – Psalms 145:18 \nJoin us for a night of praise and prayer on Zoom!
URL:https://ica-ministry.org/event/praise-and-prayer-night/
LOCATION:ICA Friday night activity Zoom room
CATEGORIES:Weekly activities
ATTACH;FMTTYPE=image/png:https://ica-ministry.org/wp-content/uploads/2020/10/Friday-night-college-fellowship-praise-worship-prayer-rest-online-Zoom.png
ORGANIZER;CN="In Christ Alone":MAILTO:ed@icaministry.org
END:VEVENT
END:VCALENDAR