BEGIN:VCALENDAR
VERSION:2.0
PRODID:-//In Christ Alone - ECPv6.15.20//NONSGML v1.0//EN
CALSCALE:GREGORIAN
METHOD:PUBLISH
X-ORIGINAL-URL:https://ica-ministry.org
X-WR-CALDESC:Events for In Christ Alone
REFRESH-INTERVAL;VALUE=DURATION:PT1H
X-Robots-Tag:noindex
X-PUBLISHED-TTL:PT1H
BEGIN:VTIMEZONE
TZID:America/Los_Angeles
BEGIN:DAYLIGHT
TZOFFSETFROM:-0800
TZOFFSETTO:-0700
TZNAME:PDT
DTSTART:20230312T100000
END:DAYLIGHT
BEGIN:STANDARD
TZOFFSETFROM:-0700
TZOFFSETTO:-0800
TZNAME:PST
DTSTART:20231105T090000
END:STANDARD
BEGIN:DAYLIGHT
TZOFFSETFROM:-0800
TZOFFSETTO:-0700
TZNAME:PDT
DTSTART:20240310T100000
END:DAYLIGHT
BEGIN:STANDARD
TZOFFSETFROM:-0700
TZOFFSETTO:-0800
TZNAME:PST
DTSTART:20241103T090000
END:STANDARD
BEGIN:DAYLIGHT
TZOFFSETFROM:-0800
TZOFFSETTO:-0700
TZNAME:PDT
DTSTART:20250309T100000
END:DAYLIGHT
BEGIN:STANDARD
TZOFFSETFROM:-0700
TZOFFSETTO:-0800
TZNAME:PST
DTSTART:20251102T090000
END:STANDARD
BEGIN:DAYLIGHT
TZOFFSETFROM:-0800
TZOFFSETTO:-0700
TZNAME:PDT
DTSTART:20260308T100000
END:DAYLIGHT
BEGIN:STANDARD
TZOFFSETFROM:-0700
TZOFFSETTO:-0800
TZNAME:PST
DTSTART:20261101T090000
END:STANDARD
END:VTIMEZONE
BEGIN:VEVENT
DTSTART;TZID=America/Los_Angeles:20251029T183000
DTEND;TZID=America/Los_Angeles:20251029T195000
DTSTAMP:20260423T062644
CREATED:20251022T011123Z
LAST-MODIFIED:20251022T011123Z
UID:2137-1761762600-1761767400@ica-ministry.org
SUMMARY:UCLA Wednesday Bible Study
DESCRIPTION:Join us for the UCLA Wednesday Bible Study in Powell Library Group Study Room A!
URL:https://ica-ministry.org/event/ucla-wednesday-bible-study-16/
LOCATION:Powell Library Group Study Room A
ORGANIZER;CN="In Christ Alone":MAILTO:ed@icaministry.org
END:VEVENT
BEGIN:VEVENT
DTSTART;TZID=America/Los_Angeles:20251022T183000
DTEND;TZID=America/Los_Angeles:20251022T195000
DTSTAMP:20260423T062644
CREATED:20251022T010722Z
LAST-MODIFIED:20251022T010722Z
UID:2133-1761157800-1761162600@ica-ministry.org
SUMMARY:UCLA Wednesday Bible Study
DESCRIPTION:Join us for the UCLA Wednesday Bible Study in Powell Library Group Study Room A!
URL:https://ica-ministry.org/event/ucla-wednesday-bible-study-15/
LOCATION:Powell Library Group Study Room A
CATEGORIES:Weekly activities
ATTACH;FMTTYPE=image/png:https://ica-ministry.org/wp-content/uploads/2023/11/Cover-8.png
END:VEVENT
BEGIN:VEVENT
DTSTART;TZID=America/Los_Angeles:20250924T170000
DTEND;TZID=America/Los_Angeles:20250924T183000
DTSTAMP:20260423T062644
CREATED:20250923T195041Z
LAST-MODIFIED:20250923T195041Z
UID:2130-1758733200-1758738600@ica-ministry.org
SUMMARY:UCLA Wednesday Bible Study
DESCRIPTION:Join us for the UCLA Wednesday Bible Study at the roof top of Cafe 1919!
URL:https://ica-ministry.org/event/ucla-wednesday-bible-study-14/
ATTACH;FMTTYPE=image/png:https://ica-ministry.org/wp-content/uploads/2023/11/Cover-8.png
END:VEVENT
BEGIN:VEVENT
DTSTART;TZID=America/Los_Angeles:20250921T120000
DTEND;TZID=America/Los_Angeles:20250921T143000
DTSTAMP:20260423T062644
CREATED:20250920T023010Z
LAST-MODIFIED:20250920T023018Z
UID:2127-1758456000-1758465000@ica-ministry.org
SUMMARY:New People Welcome BBQ
DESCRIPTION:Come join us for a welcome BBQ after church this Sunday!
URL:https://ica-ministry.org/event/new-people-welcome-bbq/
LOCATION:White Harvest Missions Center\, 1336 S. Berendo St.\, Los Angeles\, CA\, United States
END:VEVENT
BEGIN:VEVENT
DTSTART;TZID=America/Los_Angeles:20240501T183000
DTEND;TZID=America/Los_Angeles:20240501T203000
DTSTAMP:20260423T062644
CREATED:20240409T164158Z
LAST-MODIFIED:20240409T164158Z
UID:2102-1714588200-1714595400@ica-ministry.org
SUMMARY:UCLA Wednesday Bible Study
DESCRIPTION:Join us for the UCLA Wednesday Bible Study at Kaplan A60.
URL:https://ica-ministry.org/event/ucla-wednesday-bible-study-13/
CATEGORIES:Weekly activities
ATTACH;FMTTYPE=image/png:https://ica-ministry.org/wp-content/uploads/2023/11/Cover-8.png
END:VEVENT
BEGIN:VEVENT
DTSTART;TZID=America/Los_Angeles:20240424T183000
DTEND;TZID=America/Los_Angeles:20240424T203000
DTSTAMP:20260423T062644
CREATED:20240409T163908Z
LAST-MODIFIED:20240409T163908Z
UID:2100-1713983400-1713990600@ica-ministry.org
SUMMARY:UCLA Wednesday Bible Study
DESCRIPTION:Join us for the UCLA Wednesday Bible Study at Kaplan A60.
URL:https://ica-ministry.org/event/ucla-wednesday-bible-study-12/
CATEGORIES:Weekly activities
ATTACH;FMTTYPE=image/png:https://ica-ministry.org/wp-content/uploads/2023/11/Cover-8.png
END:VEVENT
BEGIN:VEVENT
DTSTART;TZID=America/Los_Angeles:20240423T183000
DTEND;TZID=America/Los_Angeles:20240423T203000
DTSTAMP:20260423T062644
CREATED:20240409T171451Z
LAST-MODIFIED:20240409T171451Z
UID:2106-1713897000-1713904200@ica-ministry.org
SUMMARY:USC Tuesday Bible Study
DESCRIPTION:Join us for the USC Tuesday Bible Study at the center/church.
URL:https://ica-ministry.org/event/usc-tuesday-bible-study-13/
CATEGORIES:Weekly activities
ATTACH;FMTTYPE=image/png:https://ica-ministry.org/wp-content/uploads/2023/11/Cover-8.png
END:VEVENT
BEGIN:VEVENT
DTSTART;TZID=America/Los_Angeles:20240417T183000
DTEND;TZID=America/Los_Angeles:20240417T203000
DTSTAMP:20260423T062644
CREATED:20240409T163637Z
LAST-MODIFIED:20240409T163637Z
UID:2098-1713378600-1713385800@ica-ministry.org
SUMMARY:UCLA Wednesday Bible Study
DESCRIPTION:Join us for the UCLA Wednesday Bible Study at Kaplan A60.
URL:https://ica-ministry.org/event/ucla-wednesday-bible-study-11/
CATEGORIES:Weekly activities
ATTACH;FMTTYPE=image/png:https://ica-ministry.org/wp-content/uploads/2023/11/Cover-8.png
END:VEVENT
BEGIN:VEVENT
DTSTART;TZID=America/Los_Angeles:20240416T183000
DTEND;TZID=America/Los_Angeles:20240416T203000
DTSTAMP:20260423T062644
CREATED:20240409T171240Z
LAST-MODIFIED:20240409T171240Z
UID:2104-1713292200-1713299400@ica-ministry.org
SUMMARY:USC Tuesday Bible Study
DESCRIPTION:Join us for the USC Tuesday Bible Study at the center/church.
URL:https://ica-ministry.org/event/usc-tuesday-bible-study-12/
CATEGORIES:Weekly activities
ATTACH;FMTTYPE=image/png:https://ica-ministry.org/wp-content/uploads/2023/11/Cover-8.png
END:VEVENT
BEGIN:VEVENT
DTSTART;TZID=America/Los_Angeles:20240410T183000
DTEND;TZID=America/Los_Angeles:20240410T203000
DTSTAMP:20260423T062644
CREATED:20240408T180139Z
LAST-MODIFIED:20240408T180139Z
UID:2096-1712773800-1712781000@ica-ministry.org
SUMMARY:UCLA Wednesday Bible Study
DESCRIPTION:Join us for the UCLA Wednesday Bible Study at Kaplan A60.
URL:https://ica-ministry.org/event/ucla-wednesday-bible-study-10/
CATEGORIES:Weekly activities
ATTACH;FMTTYPE=image/png:https://ica-ministry.org/wp-content/uploads/2023/11/Cover-8.png
END:VEVENT
BEGIN:VEVENT
DTSTART;TZID=America/Los_Angeles:20240409T183000
DTEND;TZID=America/Los_Angeles:20240409T203000
DTSTAMP:20260423T062644
CREATED:20240404T171608Z
LAST-MODIFIED:20240404T171608Z
UID:2093-1712687400-1712694600@ica-ministry.org
SUMMARY:USC Tuesday Bible Study
DESCRIPTION:Join us for the USC Tuesday Bible Study at the center/church.
URL:https://ica-ministry.org/event/usc-tuesday-bible-study-11/
CATEGORIES:Weekly activities
ATTACH;FMTTYPE=image/png:https://ica-ministry.org/wp-content/uploads/2023/11/Cover-8.png
END:VEVENT
BEGIN:VEVENT
DTSTART;TZID=America/Los_Angeles:20240402T063000
DTEND;TZID=America/Los_Angeles:20240402T080000
DTSTAMP:20260423T062644
CREATED:20240313T233216Z
LAST-MODIFIED:20240313T233216Z
UID:2079-1712039400-1712044800@ica-ministry.org
SUMMARY:USC Tuesday Bible Study
DESCRIPTION:Join us for the USC Tuesday Bible Study at the center/church.
URL:https://ica-ministry.org/event/usc-tuesday-bible-study-10/
LOCATION:White Harvest Missions Center\, 1336 S. Berendo St.\, Los Angeles\, CA\, United States
CATEGORIES:Weekly activities
ATTACH;FMTTYPE=image/png:https://ica-ministry.org/wp-content/uploads/2023/11/Cover-8.png
ORGANIZER;CN="In Christ Alone":MAILTO:ed@icaministry.org
END:VEVENT
BEGIN:VEVENT
DTSTART;TZID=America/Los_Angeles:20240331T094500
DTEND;TZID=America/Los_Angeles:20240331T110000
DTSTAMP:20260423T062644
CREATED:20240315T001804Z
LAST-MODIFIED:20240315T001804Z
UID:2089-1711878300-1711882800@ica-ministry.org
SUMMARY:Sunday Worship at WHEC
DESCRIPTION:Join us at WHEC for Sunday Service. Starts at 9:45am.
URL:https://ica-ministry.org/event/sunday-worship-at-whec-7/
LOCATION:White Harvest Missions Center\, 1336 S. Berendo St.\, Los Angeles\, CA\, United States
CATEGORIES:Weekly activities
ATTACH;FMTTYPE=image/png:https://ica-ministry.org/wp-content/uploads/2023/11/Cover-4.png
ORGANIZER;CN="In Christ Alone":MAILTO:ed@icaministry.org
END:VEVENT
BEGIN:VEVENT
DTSTART;TZID=America/Los_Angeles:20240327T063000
DTEND;TZID=America/Los_Angeles:20240327T080000
DTSTAMP:20260423T062644
CREATED:20240313T233811Z
LAST-MODIFIED:20240313T233811Z
UID:2083-1711521000-1711526400@ica-ministry.org
SUMMARY:UCLA Wednesday Bible Study
DESCRIPTION:Join us for the UCLA Wednesday Bible Study at Kaplan A60.
URL:https://ica-ministry.org/event/ucla-wednesday-bible-study-9/
CATEGORIES:Weekly activities
ATTACH;FMTTYPE=image/png:https://ica-ministry.org/wp-content/uploads/2023/11/Cover-8.png
ORGANIZER;CN="In Christ Alone":MAILTO:ed@icaministry.org
END:VEVENT
BEGIN:VEVENT
DTSTART;TZID=America/Los_Angeles:20240326T063000
DTEND;TZID=America/Los_Angeles:20240326T080000
DTSTAMP:20260423T062644
CREATED:20240313T232836Z
LAST-MODIFIED:20240313T232836Z
UID:2077-1711434600-1711440000@ica-ministry.org
SUMMARY:USC Tuesday Bible Study
DESCRIPTION:Join us for the USC Tuesday Bible Study at the center/church.
URL:https://ica-ministry.org/event/usc-tuesday-bible-study-9/
LOCATION:White Harvest Missions Center\, 1336 S. Berendo St.\, Los Angeles\, CA\, United States
CATEGORIES:Weekly activities
ATTACH;FMTTYPE=image/png:https://ica-ministry.org/wp-content/uploads/2023/11/Cover-8.png
ORGANIZER;CN="In Christ Alone":MAILTO:ed@icaministry.org
END:VEVENT
BEGIN:VEVENT
DTSTART;TZID=America/Los_Angeles:20240324T094500
DTEND;TZID=America/Los_Angeles:20240324T110000
DTSTAMP:20260423T062644
CREATED:20240315T001810Z
LAST-MODIFIED:20240315T001810Z
UID:2090-1711273500-1711278000@ica-ministry.org
SUMMARY:Sunday Worship at WHEC
DESCRIPTION:Join us at WHEC for Sunday Service. Starts at 9:45am.
URL:https://ica-ministry.org/event/sunday-worship-at-whec-8/
LOCATION:White Harvest Missions Center\, 1336 S. Berendo St.\, Los Angeles\, CA\, United States
CATEGORIES:Weekly activities
ATTACH;FMTTYPE=image/png:https://ica-ministry.org/wp-content/uploads/2023/11/Cover-4.png
ORGANIZER;CN="In Christ Alone":MAILTO:ed@icaministry.org
END:VEVENT
BEGIN:VEVENT
DTSTART;TZID=America/Los_Angeles:20240320T063000
DTEND;TZID=America/Los_Angeles:20240320T080000
DTSTAMP:20260423T062644
CREATED:20240313T233432Z
LAST-MODIFIED:20240313T233432Z
UID:2081-1710916200-1710921600@ica-ministry.org
SUMMARY:UCLA Wednesday Bible Study
DESCRIPTION:Join us for the UCLA Wednesday Bible Study at Kaplan A60.
URL:https://ica-ministry.org/event/ucla-wednesday-bible-study-8/
CATEGORIES:Weekly activities
ATTACH;FMTTYPE=image/png:https://ica-ministry.org/wp-content/uploads/2023/11/Cover-8.png
ORGANIZER;CN="In Christ Alone":MAILTO:ed@icaministry.org
END:VEVENT
BEGIN:VEVENT
DTSTART;TZID=America/Los_Angeles:20240319T063000
DTEND;TZID=America/Los_Angeles:20240319T080000
DTSTAMP:20260423T062644
CREATED:20240313T232506Z
LAST-MODIFIED:20240313T232506Z
UID:2075-1710829800-1710835200@ica-ministry.org
SUMMARY:USC Tuesday Bible Study
DESCRIPTION:Join us for the USC Tuesday Bible Study at the center/church.
URL:https://ica-ministry.org/event/usc-tuesday-bible-study-8/
LOCATION:White Harvest Missions Center\, 1336 S. Berendo St.\, Los Angeles\, CA\, United States
CATEGORIES:Weekly activities
ATTACH;FMTTYPE=image/png:https://ica-ministry.org/wp-content/uploads/2023/11/Cover-8.png
ORGANIZER;CN="In Christ Alone":MAILTO:ed@icaministry.org
END:VEVENT
BEGIN:VEVENT
DTSTART;TZID=America/Los_Angeles:20240317T094500
DTEND;TZID=America/Los_Angeles:20240317T110000
DTSTAMP:20260423T062644
CREATED:20240315T000349Z
LAST-MODIFIED:20240315T001340Z
UID:2085-1710668700-1710673200@ica-ministry.org
SUMMARY:Sunday Worship at WHEC
DESCRIPTION:Join us at WHEC for Sunday Service. Starts at 9:45am.
URL:https://ica-ministry.org/event/caltech-sunday-bible-study-7/
LOCATION:White Harvest Missions Center\, 1336 S. Berendo St.\, Los Angeles\, CA\, United States
CATEGORIES:Weekly activities
ATTACH;FMTTYPE=image/png:https://ica-ministry.org/wp-content/uploads/2023/11/Cover-4.png
ORGANIZER;CN="In Christ Alone":MAILTO:ed@icaministry.org
END:VEVENT
BEGIN:VEVENT
DTSTART;TZID=America/Los_Angeles:20240228T063000
DTEND;TZID=America/Los_Angeles:20240228T080000
DTSTAMP:20260423T062644
CREATED:20240201T004635Z
LAST-MODIFIED:20240201T004635Z
UID:2067-1709101800-1709107200@ica-ministry.org
SUMMARY:UCLA Wednesday Bible Study
DESCRIPTION:Join us for the UCLA Wednesday Bible Study at Kaplan A60.
URL:https://ica-ministry.org/event/ucla-wednesday-bible-study-7/
CATEGORIES:Weekly activities
ATTACH;FMTTYPE=image/png:https://ica-ministry.org/wp-content/uploads/2023/11/Cover-8.png
ORGANIZER;CN="In Christ Alone":MAILTO:ed@icaministry.org
END:VEVENT
BEGIN:VEVENT
DTSTART;TZID=America/Los_Angeles:20240227T063000
DTEND;TZID=America/Los_Angeles:20240227T080000
DTSTAMP:20260423T062644
CREATED:20240201T005155Z
LAST-MODIFIED:20240201T005155Z
UID:2071-1709015400-1709020800@ica-ministry.org
SUMMARY:USC Tuesday Bible Study
DESCRIPTION:Join us for the USC Tuesday Bible Study at the center/church.
URL:https://ica-ministry.org/event/usc-tuesday-bible-study-7/
CATEGORIES:Weekly activities
ATTACH;FMTTYPE=image/png:https://ica-ministry.org/wp-content/uploads/2023/11/Cover-8.png
ORGANIZER;CN="In Christ Alone":MAILTO:ed@icaministry.org
END:VEVENT
BEGIN:VEVENT
DTSTART;TZID=America/Los_Angeles:20240225T150000
DTEND;TZID=America/Los_Angeles:20240225T170000
DTSTAMP:20260423T062644
CREATED:20240131T011224Z
LAST-MODIFIED:20240131T011224Z
UID:2052-1708873200-1708880400@ica-ministry.org
SUMMARY:CalTech Sunday Bible Study
DESCRIPTION:Join us for the CalTech Sunday Bible Study at Cafe RED.
URL:https://ica-ministry.org/event/caltech-sunday-bible-study-6/
CATEGORIES:Weekly activities
ATTACH;FMTTYPE=image/png:https://ica-ministry.org/wp-content/uploads/2023/11/Cover-8.png
ORGANIZER;CN="In Christ Alone":MAILTO:ed@icaministry.org
END:VEVENT
BEGIN:VEVENT
DTSTART;TZID=America/Los_Angeles:20240221T063000
DTEND;TZID=America/Los_Angeles:20240221T080000
DTSTAMP:20260423T062644
CREATED:20240201T004537Z
LAST-MODIFIED:20240201T004537Z
UID:2065-1708497000-1708502400@ica-ministry.org
SUMMARY:UCLA Wednesday Bible Study
DESCRIPTION:Join us for the UCLA Wednesday Bible Study at Kaplan A60.
URL:https://ica-ministry.org/event/ucla-wednesday-bible-study-6/
CATEGORIES:Weekly activities
ATTACH;FMTTYPE=image/png:https://ica-ministry.org/wp-content/uploads/2023/11/Cover-8.png
ORGANIZER;CN="In Christ Alone":MAILTO:ed@icaministry.org
END:VEVENT
BEGIN:VEVENT
DTSTART;TZID=America/Los_Angeles:20240220T063000
DTEND;TZID=America/Los_Angeles:20240220T080000
DTSTAMP:20260423T062644
CREATED:20240201T004931Z
LAST-MODIFIED:20240201T004931Z
UID:2069-1708410600-1708416000@ica-ministry.org
SUMMARY:USC Tuesday Bible Study
DESCRIPTION:Join us for the USC Tuesday Bible Study at the center/church.
URL:https://ica-ministry.org/event/usc-tuesday-bible-study-6/
CATEGORIES:Weekly activities
ATTACH;FMTTYPE=image/png:https://ica-ministry.org/wp-content/uploads/2023/11/Cover-8.png
ORGANIZER;CN="In Christ Alone":MAILTO:ed@icaministry.org
END:VEVENT
BEGIN:VEVENT
DTSTART;TZID=America/Los_Angeles:20240218T150000
DTEND;TZID=America/Los_Angeles:20240218T170000
DTSTAMP:20260423T062644
CREATED:20240130T020443Z
LAST-MODIFIED:20240130T020443Z
UID:2050-1708268400-1708275600@ica-ministry.org
SUMMARY:CalTech Sunday Bible Study
DESCRIPTION:Join us for the CalTech Sunday Bible Study at Cafe RED.
URL:https://ica-ministry.org/event/caltech-sunday-bible-study-5/
CATEGORIES:Weekly activities
ATTACH;FMTTYPE=image/png:https://ica-ministry.org/wp-content/uploads/2023/11/Cover-8.png
ORGANIZER;CN="In Christ Alone":MAILTO:ed@icaministry.org
END:VEVENT
BEGIN:VEVENT
DTSTART;TZID=America/Los_Angeles:20240214T063000
DTEND;TZID=America/Los_Angeles:20240214T080000
DTSTAMP:20260423T062644
CREATED:20240201T004428Z
LAST-MODIFIED:20240201T004428Z
UID:2063-1707892200-1707897600@ica-ministry.org
SUMMARY:UCLA Wednesday Bible Study
DESCRIPTION:Join us for the UCLA Wednesday Bible Study at Kaplan A60.
URL:https://ica-ministry.org/event/ucla-wednesday-bible-study-5/
CATEGORIES:Weekly activities
ATTACH;FMTTYPE=image/png:https://ica-ministry.org/wp-content/uploads/2023/11/Cover-8.png
END:VEVENT
BEGIN:VEVENT
DTSTART;TZID=America/Los_Angeles:20240213T063000
DTEND;TZID=America/Los_Angeles:20240213T083000
DTSTAMP:20260423T062644
CREATED:20240131T012139Z
LAST-MODIFIED:20240131T012139Z
UID:2056-1707805800-1707813000@ica-ministry.org
SUMMARY:USC Tuesday Bible Study
DESCRIPTION:Join us for the USC Tuesday Bible Study at the center/church.
URL:https://ica-ministry.org/event/usc-tuesday-bible-study-5/
CATEGORIES:Weekly activities
ATTACH;FMTTYPE=image/png:https://ica-ministry.org/wp-content/uploads/2023/11/Cover-8.png
ORGANIZER;CN="In Christ Alone":MAILTO:ed@icaministry.org
END:VEVENT
BEGIN:VEVENT
DTSTART;TZID=America/Los_Angeles:20240211T150000
DTEND;TZID=America/Los_Angeles:20240211T170000
DTSTAMP:20260423T062644
CREATED:20240130T020126Z
LAST-MODIFIED:20240130T020126Z
UID:2046-1707663600-1707670800@ica-ministry.org
SUMMARY:CalTech Sunday Bible Study
DESCRIPTION:Join us for the CalTech Sunday Bible Study at Cafe RED.
URL:https://ica-ministry.org/event/caltech-sunday-bible-study-4/
CATEGORIES:Weekly activities
ATTACH;FMTTYPE=image/png:https://ica-ministry.org/wp-content/uploads/2023/11/Cover-8.png
ORGANIZER;CN="In Christ Alone":MAILTO:ed@icaministry.org
END:VEVENT
BEGIN:VEVENT
DTSTART;TZID=America/Los_Angeles:20240207T063000
DTEND;TZID=America/Los_Angeles:20240207T080000
DTSTAMP:20260423T062644
CREATED:20240201T003834Z
LAST-MODIFIED:20240201T003834Z
UID:2060-1707287400-1707292800@ica-ministry.org
SUMMARY:UCLA Wednesday Bible Study
DESCRIPTION:Join us for the UCLA Wednesday Bible Study at Kaplan A60.
URL:https://ica-ministry.org/event/ucla-wednesday-bible-study-4/
CATEGORIES:Weekly activities
ATTACH;FMTTYPE=image/png:https://ica-ministry.org/wp-content/uploads/2023/11/Cover-8.png
ORGANIZER;CN="In Christ Alone":MAILTO:ed@icaministry.org
END:VEVENT
BEGIN:VEVENT
DTSTART;TZID=America/Los_Angeles:20240206T063000
DTEND;TZID=America/Los_Angeles:20240206T083000
DTSTAMP:20260423T062644
CREATED:20240131T011937Z
LAST-MODIFIED:20240131T011937Z
UID:2055-1707201000-1707208200@ica-ministry.org
SUMMARY:USC Tuesday Bible Study
DESCRIPTION:Join us for the USC Tuesday Bible Study at the center/church.
URL:https://ica-ministry.org/event/usc-tuesday-bible-study-4/
CATEGORIES:Weekly activities
ATTACH;FMTTYPE=image/png:https://ica-ministry.org/wp-content/uploads/2023/11/Cover-8.png
ORGANIZER;CN="In Christ Alone":MAILTO:ed@icaministry.org
END:VEVENT
END:VCALENDAR